BEGIN:VCALENDAR
VERSION:2.0
PRODID:-//John Burroughs Site - ECPv6.15.20//NONSGML v1.0//EN
CALSCALE:GREGORIAN
METHOD:PUBLISH
X-WR-CALNAME:John Burroughs Site
X-ORIGINAL-URL:https://jburroughs100.org
X-WR-CALDESC:Events for John Burroughs Site
REFRESH-INTERVAL;VALUE=DURATION:PT1H
X-Robots-Tag:noindex
X-PUBLISHED-TTL:PT1H
BEGIN:VTIMEZONE
TZID:UTC
BEGIN:STANDARD
TZOFFSETFROM:+0000
TZOFFSETTO:+0000
TZNAME:UTC
DTSTART:20210101T000000
END:STANDARD
END:VTIMEZONE
BEGIN:VEVENT
DTSTART;TZID=UTC:20221215T183000
DTEND;TZID=UTC:20221215T193000
DTSTAMP:20260425T115433
CREATED:20220728T190753Z
LAST-MODIFIED:20221102T150922Z
UID:2326-1671129000-1671132600@jburroughs100.org
SUMMARY:Winterlude
DESCRIPTION:Join us in the Commons for an end-of-year tradition! The evening will also include two performances of Burroughs’ annual holiday program\, at 5:30 and 7:30 pm.
URL:https://jburroughs100.org/event/winterlude/
ATTACH;FMTTYPE=image/png:https://jburroughs100.org/wp-content/uploads/2022/07/winterlude-1.png
END:VEVENT
BEGIN:VEVENT
DTSTART;TZID=UTC:20221203T100000
DTEND;TZID=UTC:20221203T120000
DTSTAMP:20260425T115433
CREATED:20221102T144428Z
LAST-MODIFIED:20221207T184015Z
UID:2816-1670061600-1670068800@jburroughs100.org
SUMMARY:Gingerbread House Decorating
DESCRIPTION:On Saturday\, December 3\, Burroughs alumni and their littles gathered in the dining room for the biennial Burroughs Gingerbread House. This event was sponsored by the Schnuck Family.
URL:https://jburroughs100.org/event/gingerbread-house-decorating/
CATEGORIES:JBS Alumni Events
ATTACH;FMTTYPE=image/png:https://jburroughs100.org/wp-content/uploads/2022/11/gingerbread-event.png
END:VEVENT
BEGIN:VEVENT
DTSTART;TZID=UTC:20221125T180000
DTEND;TZID=UTC:20221125T200000
DTSTAMP:20260425T115433
CREATED:20220720T143511Z
LAST-MODIFIED:20221129T163911Z
UID:2234-1669399200-1669406400@jburroughs100.org
SUMMARY:Young Alumni Happy Hour
DESCRIPTION:Young alumni from the classes of 2012-2018 gathered on campus for a holiday happy hour. Click here for even more photos from the event.
URL:https://jburroughs100.org/event/young-alumni-happy-hour-2022/
CATEGORIES:JBS Alumni Events
ATTACH;FMTTYPE=image/jpeg:https://jburroughs100.org/wp-content/uploads/2022/07/Young-Alumni-HH.jpg
END:VEVENT
BEGIN:VEVENT
DTSTART;TZID=UTC:20221125T170000
DTEND;TZID=UTC:20221125T183000
DTSTAMP:20260425T115433
CREATED:20221102T175846Z
LAST-MODIFIED:20221129T163916Z
UID:2829-1669395600-1669401000@jburroughs100.org
SUMMARY:Back to Burroughs
DESCRIPTION:Members of the class of 2019 and their families enjoyed a casual evening on campus over Thanksgiving break. This new Burroughs tradition welcomes young alumni back to Burroughs for a chance to reconnect with friends and faculty. Click here for more photos from the event.
URL:https://jburroughs100.org/event/back-to-burroughs/
CATEGORIES:JBS Alumni Events
ATTACH;FMTTYPE=image/jpeg:https://jburroughs100.org/wp-content/uploads/2022/11/Back-to-Burroughs.jpg
END:VEVENT
BEGIN:VEVENT
DTSTART;TZID=UTC:20221125T110000
DTEND;TZID=UTC:20221125T110000
DTSTAMP:20260425T115433
CREATED:20221031T200635Z
LAST-MODIFIED:20221129T163921Z
UID:2812-1669374000-1669374000@jburroughs100.org
SUMMARY:Annual Alumni Ice Hockey Game
DESCRIPTION:Burroughs alumni laced up their skates and took to the ice Friday\, November 25 for the annual Alumni Ice Hockey game\, which celebrated the 50th anniversary of Burroughs’ ice hockey program (the 1972 team is pictured above!). Check out the post below for photos from this year’s event.
URL:https://jburroughs100.org/event/annual-alumni-ice-hockey-game/
CATEGORIES:JBS Alumni Events
ATTACH;FMTTYPE=image/png:https://jburroughs100.org/wp-content/uploads/2022/10/jbs-ice-hockey.png
END:VEVENT
BEGIN:VEVENT
DTSTART;TZID=UTC:20221008T110000
DTEND;TZID=UTC:20221008T130000
DTSTAMP:20260425T115433
CREATED:20220720T142810Z
LAST-MODIFIED:20221129T164251Z
UID:2228-1665226800-1665234000@jburroughs100.org
SUMMARY:Alumni Family Picnic
DESCRIPTION:Burroughs alumni and their families gathered in the Quad for the annual Alumni Family Picnic\, featuring face painters\, balloon artists\, a photo booth\, and frosty treats. For even more photos from the event\, check out Andrew Newman ’87’s SmugMug page.
URL:https://jburroughs100.org/event/alumni-family-picnic/
ATTACH;FMTTYPE=image/png:https://jburroughs100.org/wp-content/uploads/2022/07/AFP.png
END:VEVENT
BEGIN:VEVENT
DTSTART;TZID=UTC:20221007T173000
DTEND;TZID=UTC:20221007T220000
DTSTAMP:20260425T115433
CREATED:20220720T142548Z
LAST-MODIFIED:20221129T164256Z
UID:2226-1665163800-1665180000@jburroughs100.org
SUMMARY:Centennial Launch Party
DESCRIPTION:Featuring a Bonsack Gallery opening for beadist Jan Schwab Huling ’72\, food trucks and drinks in the Quad\, entertainment\, and more! \nOver 600 people joined us for the Centennial Launch Party on Friday\, October 7\, which began with beadist Jan Schwab Huling’s ’72 art show\, Jiggity Jig\, in the Bonsack Gallery and then moved into the Quad with food trucks and fire pits. \nThere was also a special Centennial-themed program in Haertter Hall that highlighted our school’s history\, announced our Centennial goal of 100 scholarships and a $100 million endowment\, and showcased special performances from our talented community — Kennedy Holmes ’23\, Jacob Tuteur ’23\, renowned jazz pianist and past parent Peter Martin and the Burroughs men’s acapella group. The group sang a special arrangement by Jerry Estes (Music) of John Hartford’s ’56 “Gentle on My Mind” alongside violinist Ginna Doyle ’13 and the faculty band (Drew Battles\, Jerry Estes\, Anita Hagerman and Taylor Pietz). Click here to view snippets of their performances. \n \n\n		\n		\n			\n				\n			\n			\n				\n			\n			\n				\n			\n			\n				\n			\n			\n				\n			\n			\n				\n			\n			\n				\n			\n			\n				\n			\n			\n				\n			\n			\n				\n			\n			\n				\n			\n			\n				\n			\n			\n				\n			\n			\n		\n\nClick here for even more photos from our Centennial launch celebration via Andrew Newman ’87’s SmugMug page.
URL:https://jburroughs100.org/event/centennial-launch-party/
ATTACH;FMTTYPE=image/png:https://jburroughs100.org/wp-content/uploads/2022/07/2.png
END:VEVENT
BEGIN:VEVENT
DTSTART;TZID=UTC:20221007T173000
DTEND;TZID=UTC:20221007T183000
DTSTAMP:20260425T115433
CREATED:20220721T112516Z
LAST-MODIFIED:20221129T164302Z
UID:2264-1665163800-1665167400@jburroughs100.org
SUMMARY:Bonsack Gallery Opening: Jiggety Jig
DESCRIPTION:Jiggety Jig\, featuring the work of beadist Jan Schwab Huling ’72\, in on display in the Bonsack Gallery through November 29\, 2022. The show opened October 8\, 2022\, as part of Burroughs’ Centennial celebration. \n \nAbout the Artist\nJan Huling was born in Chicago and raised in St. Louis. After attending the Kansas City Art Institute\, she started her career in greeting card design. She now works in New York City as a product designer\, children’s book author\, and beadist. Neither sketched nor planned\, Huling‘s three-dimensional works draw inspiration from her travels to India and Mexico\, as well as imagined\, playful scenes reminiscent of childhood fairy tales and fantasies. Her work is approachable yet evocative\, incorporating spiritual iconography alongside humorous artifacts of contemporary popular culture. The armatures for Huling’s sculptures are an unpredictable mix of forms ranging from Kewpie and Munny dolls to birds and tiny life-sized insects. In addition to seed beads\, Huling’s colorful sculptures incorporate a variety of found objects\, such as buttons\, coins\, tokens\, and costume jewelry. Huling’s slow and meticulous beading process\, the intricacy of her swirling\, hypnotic patterns\, and the spontaneous manner with which Huling approaches each new project results in sculpture that is both delicate and alluring to touch — simply put\, she transforms the ordinary into the extraordinary. Jan’s work is represented by Duane Reed Gallery in St. Louis. \n\n		\n		\n			\n				\n			\n			\n				\n			\n			\n				\n			\n			\n				\n			\n		\n\nClick here for even more photos from our Centennial launch celebration via Andrew Newman ’87’s SmugMug page.
URL:https://jburroughs100.org/event/bonsack-gallery-opening-jan-schwab-huling/
CATEGORIES:Centennial Launch
ATTACH;FMTTYPE=image/png:https://jburroughs100.org/wp-content/uploads/2022/07/4af95f2d4471e570c37055b9eaf14ef51f61462ba6633e70fe038e317976cbe3.png
END:VEVENT
BEGIN:VEVENT
DTSTART;TZID=UTC:20221006T190000
DTEND;TZID=UTC:20221006T203000
DTSTAMP:20260425T115433
CREATED:20220926T171618Z
LAST-MODIFIED:20221129T164306Z
UID:2708-1665082800-1665088200@jburroughs100.org
SUMMARY:An Evening With Brittany Packnett Cunningham '02
DESCRIPTION:Twenty-five years ago\, Brittany Packnett Cunningham ’02 was one of the founders of the student group Diversity E.T.C. (Education Through Communication) and served as a catalyzing force for so many of the initiatives that would follow. Since then\, she has been a consistent voice giving back to the Burroughs community through trainings\, speaking engagements\, and other partnerships with Daniel Harris and the Office of Diversity\, Equity\, Inclusivity & Engagement. \nBrittany was honored during assembly on Friday\, October 7 with both the Outstanding Alumnus and the Distinguished Service awards; she also spoke to Burroughs’ adult community on Thursday\, October 6. She is the first alum to receive both in a single year. The award was presented by JBS Alumni Board president Terry Riley Patton ‘77; Brittany’s family (including her brother\, Barrington Packnett ’07) were also in attendance. You can view snippets from the event here. \nFollowing Friday’s alumni awards presentation\, Brittany stayed on stage to participate in a student-led discussion with Ayomide Ajakaiye ‘25\, Alexander Doty ‘25\, and Delali Suggs-Akaffu ‘27 about her work as an activist during her time at Burroughs and beyond. The conversation continued after assembly with 1st period English and History classes.
URL:https://jburroughs100.org/event/brittany-packnett-cunningham/
CATEGORIES:Centennial Launch
ATTACH;FMTTYPE=image/png:https://jburroughs100.org/wp-content/uploads/2022/09/Brittany-Packnett-Cunningham.png
END:VEVENT
BEGIN:VEVENT
DTSTART;TZID=UTC:20220924T080000
DTEND;TZID=UTC:20220924T110000
DTSTAMP:20260425T115433
CREATED:20220728T200251Z
LAST-MODIFIED:20221129T164310Z
UID:2336-1664006400-1664017200@jburroughs100.org
SUMMARY:Fun Run/Walk
DESCRIPTION:Don’t miss Blue & Gold Spirit Weekend! Join us Saturday morning for the annual fun run (7:30 am check-in\, 8 am start). \n\n		\n		\n			\n				\n			\n			\n				\n			\n			\n				\n			\n			\n				\n			\n			\n				\n			\n			\n				\n			\n			\n				\n			\n			\n				\n			\n			\n				\n			\n		\n\n  \nClick here for even more photos from the event via Andrew Newman ’87’s SmugMug page.
URL:https://jburroughs100.org/event/fun-run-walk/
CATEGORIES:Blue & Gold Spirit Weekend
ATTACH;FMTTYPE=image/png:https://jburroughs100.org/wp-content/uploads/2022/07/JBS-Fun-Run.png
END:VEVENT
BEGIN:VEVENT
DTSTART;VALUE=DATE:20220924
DTEND;VALUE=DATE:20220925
DTSTAMP:20260425T115433
CREATED:20220920T211032Z
LAST-MODIFIED:20221129T164316Z
UID:2706-1663977600-1664063999@jburroughs100.org
SUMMARY:JBS vs. MICDS Athletic Games
DESCRIPTION:Cheer on the Bombers during this year’s Blue & Gold Spirit Weekend — a full schedule of athletic contests is available here. \nThis year\, JV games will be played at MICDS and varsity games will be played at JBS. Families may park at either school and use the FREE shuttles running between JBS and MICDS from 7:15 am to 4 pm.
URL:https://jburroughs100.org/event/jbs-vs-micds-athletic-games/
CATEGORIES:Blue & Gold Spirit Weekend
ATTACH;FMTTYPE=image/png:https://jburroughs100.org/wp-content/uploads/2022/09/Blue-Gold-Games.png
END:VEVENT
BEGIN:VEVENT
DTSTART;TZID=UTC:20220923T193000
DTEND;TZID=UTC:20220923T203000
DTSTAMP:20260425T115433
CREATED:20220728T195328Z
LAST-MODIFIED:20221129T164320Z
UID:2332-1663961400-1663965000@jburroughs100.org
SUMMARY:Bonfire Watch Party
DESCRIPTION:Don’t miss Blue & Gold Spirit Weekend! On Friday night\, parents\, guardians\, and alumni are invited to watch the annual bonfire together from the STAR Building overlook.
URL:https://jburroughs100.org/event/bonfire-watch-party/
CATEGORIES:Blue & Gold Spirit Weekend
ATTACH;FMTTYPE=image/png:https://jburroughs100.org/wp-content/uploads/2022/07/JBS-Bonfire.png
END:VEVENT
END:VCALENDAR